BEGIN:VCALENDAR
VERSION:2.0
PRODID:-//Musikverein Renningen e.V. - ECPv6.15.14//NONSGML v1.0//EN
CALSCALE:GREGORIAN
METHOD:PUBLISH
X-WR-CALNAME:Musikverein Renningen e.V.
X-ORIGINAL-URL:https://musikvereinrenningen.de
X-WR-CALDESC:Veranstaltungen für Musikverein Renningen e.V.
REFRESH-INTERVAL;VALUE=DURATION:PT1H
X-Robots-Tag:noindex
X-PUBLISHED-TTL:PT1H
BEGIN:VTIMEZONE
TZID:Europe/Berlin
BEGIN:DAYLIGHT
TZOFFSETFROM:+0100
TZOFFSETTO:+0200
TZNAME:CEST
DTSTART:20220327T010000
END:DAYLIGHT
BEGIN:STANDARD
TZOFFSETFROM:+0200
TZOFFSETTO:+0100
TZNAME:CET
DTSTART:20221030T010000
END:STANDARD
BEGIN:DAYLIGHT
TZOFFSETFROM:+0100
TZOFFSETTO:+0200
TZNAME:CEST
DTSTART:20230326T010000
END:DAYLIGHT
BEGIN:STANDARD
TZOFFSETFROM:+0200
TZOFFSETTO:+0100
TZNAME:CET
DTSTART:20231029T010000
END:STANDARD
BEGIN:DAYLIGHT
TZOFFSETFROM:+0100
TZOFFSETTO:+0200
TZNAME:CEST
DTSTART:20240331T010000
END:DAYLIGHT
BEGIN:STANDARD
TZOFFSETFROM:+0200
TZOFFSETTO:+0100
TZNAME:CET
DTSTART:20241027T010000
END:STANDARD
BEGIN:DAYLIGHT
TZOFFSETFROM:+0100
TZOFFSETTO:+0200
TZNAME:CEST
DTSTART:20250330T010000
END:DAYLIGHT
BEGIN:STANDARD
TZOFFSETFROM:+0200
TZOFFSETTO:+0100
TZNAME:CET
DTSTART:20251026T010000
END:STANDARD
BEGIN:DAYLIGHT
TZOFFSETFROM:+0100
TZOFFSETTO:+0200
TZNAME:CEST
DTSTART:20260329T010000
END:DAYLIGHT
BEGIN:STANDARD
TZOFFSETFROM:+0200
TZOFFSETTO:+0100
TZNAME:CET
DTSTART:20261025T010000
END:STANDARD
BEGIN:DAYLIGHT
TZOFFSETFROM:+0100
TZOFFSETTO:+0200
TZNAME:CEST
DTSTART:20270328T010000
END:DAYLIGHT
BEGIN:STANDARD
TZOFFSETFROM:+0200
TZOFFSETTO:+0100
TZNAME:CET
DTSTART:20271031T010000
END:STANDARD
END:VTIMEZONE
BEGIN:VEVENT
DTSTART;TZID=Europe/Berlin:20260307T160000
DTEND;TZID=Europe/Berlin:20260307T180000
DTSTAMP:20260420T162009
CREATED:20250107T093826Z
LAST-MODIFIED:20260128T090630Z
UID:1883-1772899200-1772906400@musikvereinrenningen.de
SUMMARY:Kirchenkonzert
DESCRIPTION:Unser Programm: \n\n\n\n\nSpirals of Light (Orchester)\n\n\n\nThe Phantom of the Opera (Orchester)\n\n\n\nFuge in g-Moll (Klarinettenchor)\n\n\n\nThe Magic Book (Blech + Percussion)\n\n\n\nThey can’t take that away from me (Saxohpon-Ensemble)\n\n\n\nEarth Wind and Fire in Concert (Orchester)\n\n\n\nSheltering Sky (Orchester)\n\n\n\nThe Lost Chord (Orchester)\n\n\n\nDivertimento Nr. 9 (KV240) – 1. Satz (Holzbläser-Quintett)\n\n\n\nTears for Pachelbel (Flügelhorn + Tuba)\n\n\n\nJust a closer walk with Thee (Orchester)\n\n\n\nFrippery No. 9 (Horn-Ensemble)\n\n\n\nNessaja (Orchester)\n\n\n\nJupiter Hymn (Orchester)\n\n\n\n\n \n\n\n\nDer Eintritt ist frei. Wir bitten um Spenden zu Gunsten der Hilfe für Kinder krebskranker Eltern (KikE) in Tübingen und freuen uns auf viele Zuhörer.
URL:https://musikvereinrenningen.de/event/kirchenkonzert/
LOCATION:Katholische Kirche St. Bonifatius\, Stifterstraße 1\, Renningen\, 71272\, Germany
ATTACH;FMTTYPE=image/jpeg:https://musikvereinrenningen.de/wp-content/uploads/2025/01/Ev-Kirche_Renningen.jpg
END:VEVENT
BEGIN:VEVENT
DTSTART;TZID=Europe/Berlin:20260228T143000
DTEND;TZID=Europe/Berlin:20260228T170000
DTSTAMP:20260420T162009
CREATED:20240107T114512Z
LAST-MODIFIED:20260119T115133Z
UID:360-1772289000-1772298000@musikvereinrenningen.de
SUMMARY:Jahreshauptversammlung
DESCRIPTION:
URL:https://musikvereinrenningen.de/event/jahreshauptversammlung/
LOCATION:Vereinsheim des MVR\, Gottfried-Bauer-Straße 82\, Renningen\, 71272\, Deutschland
END:VEVENT
BEGIN:VEVENT
DTSTART;TZID=Europe/Berlin:20260103T000000
DTEND;TZID=Europe/Berlin:20260106T235959
DTSTAMP:20260420T162009
CREATED:20231209T124252Z
LAST-MODIFIED:20250922T102844Z
UID:209-1767398400-1767743999@musikvereinrenningen.de
SUMMARY:Theaterstadl
DESCRIPTION:Die Aufführungen beginnen am \n\n\n\n\n3. Januar 2026 um 19:30 Uhr (Hallenöffnung um 18:00 Uhr)\n\n\n\n4. Januar 2026 um 19:30 Uhr (Hallenöffnung um 18:00 Uhr)\n\n\n\n5. Januar 2026 um 19:30 Uhr (Hallenöffnung um 18:00 Uhr)\n\n\n\n6. Januar 2026 um 16:00 Uhr (Hallenöffnung um 14:30 Uhr)\n\n\n\n\n \n\n\n\nVorverkauf von Mo – Fr zwischen 10 und 16 Uhr bei Familie Kriegler\, Tel. (07159) 6503.
URL:https://musikvereinrenningen.de/event/theaterstadl/
LOCATION:Stegwiesenhalle Renningen\, Rankbachstraße 42\, Renningen\, 71272\, Deutschland
ATTACH;FMTTYPE=image/png:https://musikvereinrenningen.de/wp-content/uploads/2023/12/Screenshot-2025-09-22-122644.png
END:VEVENT
BEGIN:VEVENT
DTSTART;TZID=Europe/Berlin:20251213T190000
DTEND;TZID=Europe/Berlin:20251213T223000
DTSTAMP:20260420T162009
CREATED:20231209T123731Z
LAST-MODIFIED:20251125T111752Z
UID:205-1765652400-1765665000@musikvereinrenningen.de
SUMMARY:Jahreskonzert
DESCRIPTION:Vorverkauf im Schuhaus Schautt\, bei Blumen Marquardt und bei der Landmetzgerei Mezger sowie bei allen aktiven Musikern.
URL:https://musikvereinrenningen.de/event/jahreskonzert/
LOCATION:Rankbachhalle Renningen\, Rankbachstraße 51\, Renningen\, 71272\, Deutschland
ATTACH;FMTTYPE=application/pdf:https://musikvereinrenningen.de/wp-content/uploads/2023/12/Jahreskonzert-2025.pdf
END:VEVENT
BEGIN:VEVENT
DTSTART;TZID=Europe/Berlin:20251206T140000
DTEND;TZID=Europe/Berlin:20251207T180000
DTSTAMP:20260420T162009
CREATED:20230714T092715Z
LAST-MODIFIED:20250922T102218Z
UID:31-1765029600-1765130400@musikvereinrenningen.de
SUMMARY:Weihnachtsmarkt in Renningen
DESCRIPTION:Unsere Jugend bäckt leckere Waffeln und bietet Glühwein und Kinderpunsch an. Am Sonntag spielt das große Orchester ab 15 Uhr Weihnachstlieder.
URL:https://musikvereinrenningen.de/event/weihnachtsmarkt-in-renningen/
LOCATION:Kirchplatz Renningen\, Kirchplatz\, Renningen\, 71272\, Deutschland
END:VEVENT
BEGIN:VEVENT
DTSTART;TZID=Europe/Berlin:20251130T150000
DTEND;TZID=Europe/Berlin:20251130T193000
DTSTAMP:20260420T162009
CREATED:20250922T102033Z
LAST-MODIFIED:20250922T102126Z
UID:2018-1764514800-1764531000@musikvereinrenningen.de
SUMMARY:Adventsfeier des MVR
DESCRIPTION:Herzliche Einladung an alle Mitglieder unseres Vereins mit Familie. Wir wollen gemeinsam bei Kaffee und Kuchen und später einem kleinen Vesper die Vorweihnachtszeit einläuten. \n\n\n\nIn diesem Jahr hat sich der Nikolaus angekündigt und wir spielen „Bingo mit Dennis„. \n\n\n\nAnmeldung erforderlich – Details werden noch bekannt gegeben.
URL:https://musikvereinrenningen.de/event/adventsfeier-des-mvr/
LOCATION:Vereinsheim des MVR\, Gottfried-Bauer-Straße 82\, Renningen\, 71272\, Deutschland
END:VEVENT
BEGIN:VEVENT
DTSTART;TZID=Europe/Berlin:20251019T143000
DTEND;TZID=Europe/Berlin:20251019T163000
DTSTAMP:20260420T162009
CREATED:20250922T101503Z
LAST-MODIFIED:20250922T101504Z
UID:2016-1760884200-1760891400@musikvereinrenningen.de
SUMMARY:Kirbe in Neuhengstett
DESCRIPTION:Am Schlaichdorn 51\, 75382 Althengstett
URL:https://musikvereinrenningen.de/event/kirbe-in-neuhengstett/
END:VEVENT
BEGIN:VEVENT
DTSTART;TZID=Europe/Berlin:20251012T123000
DTEND;TZID=Europe/Berlin:20251012T150000
DTSTAMP:20260420T162009
CREATED:20240801T094720Z
LAST-MODIFIED:20250922T101320Z
UID:1837-1760272200-1760281200@musikvereinrenningen.de
SUMMARY:Verkaufsoffener Sonntag Renningen
DESCRIPTION:Wir eröffnen diese Veranstaltung des Gewerbe und Handelsvereins mit einem Umzug entlang der Bahnhofstraße. \nAnschließend wird es noch das ein oder andere kleine Platzkonzert in der Stadt geben.
URL:https://musikvereinrenningen.de/event/verkaufsoffener-sonntag-renningen/
END:VEVENT
BEGIN:VEVENT
DTSTART;TZID=Europe/Berlin:20250810T103000
DTEND;TZID=Europe/Berlin:20250810T130000
DTSTAMP:20260420T162009
CREATED:20230714T091424Z
LAST-MODIFIED:20250519T101243Z
UID:23-1754821800-1754830800@musikvereinrenningen.de
SUMMARY:Auftritt beim Strohländle
DESCRIPTION:Das Strohländle wird veranstaltet vom Strohländle e.V. und findet alljährlich am Engelbergturm in Leonberg statt.
URL:https://musikvereinrenningen.de/event/auftritt-beim-strohlaendle/
LOCATION:Engelbergwiese Leonberg\, Engelbergwiese\, Leonberg\, 71229\, Deutschland
END:VEVENT
BEGIN:VEVENT
DTSTART;TZID=Europe/Berlin:20250720T110000
DTEND;TZID=Europe/Berlin:20250720T140000
DTSTAMP:20260420T162009
CREATED:20250630T100604Z
LAST-MODIFIED:20250630T101239Z
UID:1979-1753009200-1753020000@musikvereinrenningen.de
SUMMARY:Jazz Matinee
DESCRIPTION:Für diesen Tag konnten wir zwei Ensembles gewinnen. Es erwartet uns ein Auftritt der Bow-Tie Big Band und der Big Band des Gymnasium Renningen.
URL:https://musikvereinrenningen.de/event/jazz-matinee/
LOCATION:Kirchplatz Renningen\, Kirchplatz\, Renningen\, 71272\, Deutschland
ATTACH;FMTTYPE=image/jpeg:https://musikvereinrenningen.de/wp-content/uploads/2025/06/IMG-20250617-WA0001-scaled.jpg
END:VEVENT
BEGIN:VEVENT
DTSTART;TZID=Europe/Berlin:20250719T190000
DTEND;TZID=Europe/Berlin:20250719T210000
DTSTAMP:20260420T162009
CREATED:20240130T134440Z
LAST-MODIFIED:20250707T192120Z
UID:410-1752951600-1752958800@musikvereinrenningen.de
SUMMARY:Open Air Konzert
DESCRIPTION:Unser jährliches Highlight im Sommer. \n\n\n\nDas Programm umfasst klassische Stücke für Blasorchester\, bekannte moderne Melodien und spezielle Arrangements für Blasorchester und Rockband. \n\n\n\n\nGrande Fanfare (Thomas Doss)\n\n\n\nAt the Break of Godwana (Benjamin Yeo)\n\n\n\nLebenslinien (Lukas Bruckmeyer)\n\n\n\nBeauty and the Beast (Howard Ashman / Alan Menken\, arr. Toshio Mashima)\n\n\n\nFunky Winds (Otto M. Schwarz)\n\n\n\nPhil Collins live (Arr. Walter Ratzek)\n\n\n\nIt’s my Life (Jon Bon Jovi\, arr. Jirka Kadlec)\n\n\n\nI’d do anything for Love (Jim Steinman\, arr. Rob Balfoort)\n\n\n\nDanza Kuduro (Don Omar\, arr. Johny Ocean)\n\n\n\nAnother Brick in the Wall (Roger Waters\, arr. John Glenesk Mortimer)\n\n\n\nAbenteuerland (Hartmut Engler & Ingo Reidl\, arr. Peter M. Riese)\n\n\n\nWho wants to live forever (Brian May\, arr. John Glenesk Mortimer)\n\n\n\nViva la Vida (Coldplay\, arr. Frank Bernaerts)\n\n\n\n\n \n\n\n\nDie Speisen kommen in diesem Jahr wieder von der Landmetzgerei Mezger und der Bäckerei craftbrot.
URL:https://musikvereinrenningen.de/event/open-air-konzert/
LOCATION:Kirchplatz Renningen\, Kirchplatz\, Renningen\, 71272\, Deutschland
ATTACH;FMTTYPE=image/jpeg:https://musikvereinrenningen.de/wp-content/uploads/2025/06/IMG-20250617-WA0001-scaled.jpg
ORGANIZER;CN="Musikverein Renningen":MAILTO:marketing@musikvereinrenningen.de
END:VEVENT
BEGIN:VEVENT
DTSTART;TZID=Europe/Berlin:20250713T123000
DTEND;TZID=Europe/Berlin:20250713T143000
DTSTAMP:20260420T162009
CREATED:20250519T100601Z
LAST-MODIFIED:20250519T100602Z
UID:1959-1752409800-1752417000@musikvereinrenningen.de
SUMMARY:Auftritt beim Musikverein Heimsheim
DESCRIPTION:Wir besuchen unseren Nachbarverein in Heimsheim.
URL:https://musikvereinrenningen.de/event/auftritt-beim-musikverein-heimsheim/
LOCATION:Vereinsheim MV Heimsheim\, Hinter Eck 1\, Heimsheim\, 71296
END:VEVENT
BEGIN:VEVENT
DTSTART;TZID=Europe/Berlin:20250706T143000
DTEND;TZID=Europe/Berlin:20250706T170000
DTSTAMP:20260420T162009
CREATED:20250519T100134Z
LAST-MODIFIED:20250519T100136Z
UID:1953-1751812200-1751821200@musikvereinrenningen.de
SUMMARY:Bachstraßenfest der Musikverein Malmsheim
DESCRIPTION:Wir treten auf in Malmsheim beim Bachstraßenfest des Musikverein Malmsheim e.V.
URL:https://musikvereinrenningen.de/event/bachstrassenfest-der-musikverein-malmsheim/
LOCATION:Bachstraße Malmsheim\, Bachstrasse\, Renningen\, 71272
END:VEVENT
BEGIN:VEVENT
DTSTART;TZID=Europe/Berlin:20250630T190000
DTEND;TZID=Europe/Berlin:20250630T220000
DTSTAMP:20260420T162009
CREATED:20250519T095743Z
LAST-MODIFIED:20250519T095744Z
UID:1947-1751310000-1751320800@musikvereinrenningen.de
SUMMARY:Waldfest des Musikverein Höfingen
DESCRIPTION:Wir unterhalten das Publikum musikalisch beim Waldfest des Musikverein Höfingen e.V. Ort der Veranstaltung ist das Waldeck in Höfingen. \n\n\n\nDie Blockhütte Waldeck Höfingen (Waldeckhütte) befindet sich in Ortsrandlage von Höfingen (Zufahrt über die Kreisstraße K1059 zwischen Höfingen und Gebersheim).
URL:https://musikvereinrenningen.de/event/waldfest-des-musikverein-hoefingen/
END:VEVENT
BEGIN:VEVENT
DTSTART;TZID=Europe/Berlin:20250627T000000
DTEND;TZID=Europe/Berlin:20250629T235959
DTSTAMP:20260420T162009
CREATED:20240130T134023Z
LAST-MODIFIED:20250528T103451Z
UID:406-1750982400-1751241599@musikvereinrenningen.de
SUMMARY:50 Jahre Kirchplatzfest
DESCRIPTION:Programm\nFreitag\, 27.06.25\n\n17:00 Uhr: Festbeginn\n18:15 Uhr: Fassanstich mit Bürgermeisterin Hettmer und den Ehrenvorsitzenden der beteiligten Vereine\nVon 17:30 – 19:15 Uhr spielt der Musikverein Renningen\nVon 19:30 – 22:00 Uhr spielt die Band Groove Commission\n\nSamstag\, 28.06.25\n\n16:30 Uhr: Festbeginn\nVon 17:00 – 19:00 Uhr spielt der Stadtkapelle Heimsheim\nVon 19:15 – 19:30 Uhr gibt es einen Jubiläumsauftritt des MGV Frohsinn aus Renningen\nVon 19:45 – 22:00 Uhr spielt der Musikverein Neuhengstett\n\nSonntag\, 29.06.25\n\n11:00 Uhr: Festbeginn\nVon 11:00 – 12:15 Uhr spielen die Blechhuba\nVon 12:30 – 13:30 Uhr spielt die Jugendkappelle des Musikverein Renningen\nAb 13:00 Uhr gibt es wieder die Spielstraße für alle Kinder\nVon 13:45 – 14:15 Uhr gibt es einen Auftritt der RSG Renningen\nVon 14:30 – 15:00 Uhr spielen die Beginners des Musikverein Renningen\nVon 15:00 – 16:30 Uhr spielt das große Vereinsorchester des Musikverein Renningen\n17:00 Uhr: Festende
URL:https://musikvereinrenningen.de/event/kirchplatzfest/
LOCATION:Kirchplatz Renningen\, Kirchplatz\, Renningen\, 71272\, Deutschland
ATTACH;FMTTYPE=image/jpeg:https://musikvereinrenningen.de/wp-content/uploads/2024/01/50Jahre_Kirchplatzfest_2025-scaled.jpg
END:VEVENT
BEGIN:VEVENT
DTSTART;TZID=Europe/Berlin:20250529T120000
DTEND;TZID=Europe/Berlin:20250529T140000
DTSTAMP:20260420T162009
CREATED:20240130T110926Z
LAST-MODIFIED:20250319T095509Z
UID:401-1748520000-1748527200@musikvereinrenningen.de
SUMMARY:Reiterfest am Bergwald
DESCRIPTION:Unser jährlicher Auftritt zum Frühschoppen beim Reiterfest
URL:https://musikvereinrenningen.de/event/reiterfest-am-bergwald/
LOCATION:Bergwaldhalle Renningen
END:VEVENT
BEGIN:VEVENT
DTSTART;TZID=Europe/Berlin:20250518T150000
DTEND;TZID=Europe/Berlin:20250518T170000
DTSTAMP:20260420T162009
CREATED:20240130T110717Z
LAST-MODIFIED:20250331T173300Z
UID:399-1747580400-1747587600@musikvereinrenningen.de
SUMMARY:Jugendkonzert des MVR
DESCRIPTION:Die einzelnen Gruppen unserer MVR-Jugend präsentieren sich
URL:https://musikvereinrenningen.de/event/jugendkonzert-des-mvr/
LOCATION:Stegwiesenhalle Renningen\, Rankbachstraße 42\, Renningen\, 71272\, Deutschland
END:VEVENT
BEGIN:VEVENT
DTSTART;TZID=Europe/Berlin:20250430T183000
DTEND;TZID=Europe/Berlin:20250430T210000
DTSTAMP:20260420T162009
CREATED:20240107T114847Z
LAST-MODIFIED:20250319T095406Z
UID:364-1746037800-1746046800@musikvereinrenningen.de
SUMMARY:Maibaum Hocketse beim GHV
DESCRIPTION:
URL:https://musikvereinrenningen.de/event/maibaum-stellen/
LOCATION:Kirchplatz Renningen\, Kirchplatz\, Renningen\, 71272\, Deutschland
END:VEVENT
BEGIN:VEVENT
DTSTART;TZID=Europe/Berlin:20250126T170000
DTEND;TZID=Europe/Berlin:20250126T190000
DTSTAMP:20260420T162009
CREATED:20250107T091915Z
LAST-MODIFIED:20250107T091917Z
UID:1878-1737910800-1737918000@musikvereinrenningen.de
SUMMARY:Neujahrskonzert der Stadt Renningen
DESCRIPTION:Unser aktives Orchester tritt auf beim Neujahrskonzert der Stadt Renningen. \n\n\n\nDie Spenden gehen an die Hospiz- und Sitzwachengruppe Renningen.
URL:https://musikvereinrenningen.de/event/neujahrskonzert-der-stadt-renningen/
LOCATION:Stegwiesenhalle Renningen\, Rankbachstraße 42\, Renningen\, 71272\, Deutschland
ATTACH;FMTTYPE=image/jpeg:https://musikvereinrenningen.de/wp-content/uploads/2025/01/Plakat-scaled.jpg
END:VEVENT
BEGIN:VEVENT
DTSTART;TZID=Europe/Berlin:20241129T210000
DTEND;TZID=Europe/Berlin:20241129T220000
DTSTAMP:20260420T162009
CREATED:20241127T165233Z
LAST-MODIFIED:20241127T165238Z
UID:1861-1732914000-1732917600@musikvereinrenningen.de
SUMMARY:Verabschiedung Bürgermeister Faißt
DESCRIPTION:Zum Ende des Festakts für den scheidenden Bürgermeister Wolfgang Faißt überbringen wir zusammen mit dem Musikverein Malmsheim einen musikalischen Gruß.
URL:https://musikvereinrenningen.de/event/verabschiedung-buergermeister-faisst/
LOCATION:Stegwiesenhalle Renningen\, Rankbachstraße 42\, Renningen\, 71272\, Deutschland
END:VEVENT
BEGIN:VEVENT
DTSTART;TZID=Europe/Berlin:20240908T113000
DTEND;TZID=Europe/Berlin:20240908T133000
DTSTAMP:20260420T162009
CREATED:20240801T094135Z
LAST-MODIFIED:20240801T094135Z
UID:1831-1725795000-1725802200@musikvereinrenningen.de
SUMMARY:Feuerwehrfest Rennigen
DESCRIPTION:Unser erster Auftritt nach den Sommerferien 🙂
URL:https://musikvereinrenningen.de/event/feuerwehrfest-rennigen/
LOCATION:Feuerwehrgerätehaus\, Jahnstraße 20\, Renningen\, 71272\, Deutschland
END:VEVENT
BEGIN:VEVENT
DTSTART;TZID=Europe/Berlin:20240802T190000
DTEND;TZID=Europe/Berlin:20240802T220000
DTSTAMP:20260420T162009
CREATED:20240617T124625Z
LAST-MODIFIED:20240617T124625Z
UID:1816-1722625200-1722636000@musikvereinrenningen.de
SUMMARY:Weinfest Renningen
DESCRIPTION:
URL:https://musikvereinrenningen.de/event/weinfest-renningen/
LOCATION:Ernst-Bauer-Platz\, Renningen\, 71272\, Deutschland
END:VEVENT
BEGIN:VEVENT
DTSTART;TZID=Europe/Berlin:20240714T110000
DTEND;TZID=Europe/Berlin:20240714T150000
DTSTAMP:20260420T162009
CREATED:20240130T134704Z
LAST-MODIFIED:20240617T124126Z
UID:412-1720954800-1720969200@musikvereinrenningen.de
SUMMARY:Matinee der Renninger Vereine
DESCRIPTION:Programm: \n\n11:15 – 12:00 Uhr Jugendkapelle des Musikverein Renningen\n12:15 – 12:30 Uhr Voltigierer des Reit- und Fahrverein Renningen\n12:35 – 12:50 Uhr Folkloregruppe Renningen\n12:55 – 13:15 Uhr Renninger Schlüsselgesellschaft\n13:30 – 14:30 Uhr Harmonika-Club Renningen\n\nDie Speisen kommen in diesem Jahr von der Landmetzgerei Mezger und der Bäckerei craftbrot.
URL:https://musikvereinrenningen.de/event/matinee-der-renninger-vereine/
LOCATION:Kirchplatz Renningen\, Kirchplatz\, Renningen\, 71272\, Deutschland
END:VEVENT
BEGIN:VEVENT
DTSTART;TZID=Europe/Berlin:20240623T183000
DTEND;TZID=Europe/Berlin:20240623T203000
DTSTAMP:20260420T162009
CREATED:20240130T134303Z
LAST-MODIFIED:20240130T134303Z
UID:408-1719167400-1719174600@musikvereinrenningen.de
SUMMARY:Zwiebelkuchenfest Kuppingen
DESCRIPTION:Auftritt
URL:https://musikvereinrenningen.de/event/zwiebelkuchenfest-kuppingen/
END:VEVENT
BEGIN:VEVENT
DTSTART;TZID=Europe/Berlin:20240512T113000
DTEND;TZID=Europe/Berlin:20240512T133000
DTSTAMP:20260420T162009
CREATED:20240326T113733Z
LAST-MODIFIED:20240429T184756Z
UID:1747-1715513400-1715520600@musikvereinrenningen.de
SUMMARY:Frühschoppen beim Hobafäschd in Münchingen
DESCRIPTION:Münchinger Hoba Fäschd – das beliebte Stadtfest im Stadtteil Münchingen von Korntal-Münchingen \nFest\, Spaß\, Sport & Unterhaltung mit verkaufsoffenem Sonntag in Münchingen
URL:https://musikvereinrenningen.de/event/frueschoppen-beim-hobafaeschd-in-muenchingen/
ATTACH;FMTTYPE=image/png:https://musikvereinrenningen.de/wp-content/uploads/2024/03/Hoba-Faeschd-Muenchingen-Logo.png
END:VEVENT
BEGIN:VEVENT
DTSTART;TZID=Europe/Berlin:20240501T113000
DTEND;TZID=Europe/Berlin:20240501T140000
DTSTAMP:20260420T162009
CREATED:20240130T110443Z
LAST-MODIFIED:20240130T110443Z
UID:397-1714563000-1714572000@musikvereinrenningen.de
SUMMARY:Maifest des MV Unterreichenbach
DESCRIPTION:Wir spielen zum Frühschoppen bei unseren Freunden des Musikverein Unterreichenbach
URL:https://musikvereinrenningen.de/event/maifest-des-mv-unterreichenbach/
END:VEVENT
BEGIN:VEVENT
DTSTART;TZID=Europe/Berlin:20240407T150000
DTEND;TZID=Europe/Berlin:20240407T170000
DTSTAMP:20260420T162009
CREATED:20240107T114637Z
LAST-MODIFIED:20240303T162517Z
UID:362-1712502000-1712509200@musikvereinrenningen.de
SUMMARY:Kinder-Mitmach-Konzert
DESCRIPTION:
URL:https://musikvereinrenningen.de/event/familienkonzert/
LOCATION:Stegwiesenhalle Renningen\, Rankbachstraße 42\, Renningen\, 71272\, Deutschland
END:VEVENT
BEGIN:VEVENT
DTSTART;TZID=Europe/Berlin:20230715T190000
DTEND;TZID=Europe/Berlin:20230715T220000
DTSTAMP:20260420T162009
CREATED:20230714T085609Z
LAST-MODIFIED:20230715T124657Z
UID:17-1689447600-1689458400@musikvereinrenningen.de
SUMMARY:Open Air Konzert 2023
DESCRIPTION:Auch in diesem Jahr wieder spielen wir ein sommerliches Konzert auf dem Kirchplatz in Renningen. \nAlle Infos dazu gibt es hier.
URL:https://musikvereinrenningen.de/event/open-air-konzert-2023/
LOCATION:Kirchplatz Renningen\, Kirchplatz\, Renningen\, 71272\, Deutschland
END:VEVENT
END:VCALENDAR